
BEGIN:VCALENDAR
VERSION:2.0
PRODID:-//wp-events-plugin.com//7.2.3.1//EN
TZID:Europe/Amsterdam
X-WR-TIMEZONE:Europe/Amsterdam
BEGIN:VEVENT
UID:308@corridorchapter.nl
DTSTART;TZID=Europe/Amsterdam:20250202T133000
DTEND;TZID=Europe/Amsterdam:20250202T170000
DTSTAMP:20240920T174727Z
URL:https://corridorchapter.nl/events/algemene-leden-vergadering-6/
SUMMARY:Algemene Leden Vergadering
DESCRIPTION:
CATEGORIES:Events Corridor Chapter
END:VEVENT
BEGIN:VTIMEZONE
TZID:Europe/Amsterdam
X-LIC-LOCATION:Europe/Amsterdam
BEGIN:STANDARD
DTSTART:20241027T020000
TZOFFSETFROM:+0200
TZOFFSETTO:+0100
TZNAME:CET
END:STANDARD
END:VTIMEZONE
END:VCALENDARBEGIN:VCALENDAR
VERSION:2.0
PRODID:-//wp-events-plugin.com//7.2.3.1//EN
TZID:Europe/Amsterdam
X-WR-TIMEZONE:Europe/Amsterdam
BEGIN:VEVENT
UID:308@corridorchapter.nl
DTSTART;TZID=Europe/Amsterdam:20250202T133000
DTEND;TZID=Europe/Amsterdam:20250202T170000
DTSTAMP:20240920T174727Z
URL:https://corridorchapter.nl/events/algemene-leden-vergadering-6/
SUMMARY:Algemene Leden Vergadering
DESCRIPTION:
CATEGORIES:Events Corridor Chapter
END:VEVENT
BEGIN:VTIMEZONE
TZID:Europe/Amsterdam
X-LIC-LOCATION:Europe/Amsterdam
BEGIN:STANDARD
DTSTART:20241027T020000
TZOFFSETFROM:+0200
TZOFFSETTO:+0100
TZNAME:CET
END:STANDARD
END:VTIMEZONE
END:VCALENDAR